BEGIN:VCALENDAR
VERSION:2.0
PRODID:-//92.205.5.224//NONSGML kigkonsult.se iCalcreator 2.20//
CALSCALE:GREGORIAN
METHOD:PUBLISH
X-WR-TIMEZONE:UTC
BEGIN:VEVENT
UID:event265@PTS Vöcklamarkt - Allgemeinbildung | Berufsorientierung | Pers
 önlichkeitsbildung
DTSTAMP:20260421T123916Z
CATEGORIES:Schularbeit
DESCRIPTION:4. Deutsch- Schularbeit\nCategory: Schularbeit\nLink: https://w
 ww.pts-voecklamarkt.at/index.php?option=com_jem&view=event&id=265:4-deutsc
 h-schularbeit\n
DTSTART;VALUE=DATE:20260508
DTEND;VALUE=DATE:20260509
SUMMARY:4. Deutsch- Schularbeit
URL:https://www.pts-voecklamarkt.at/index.php?option=com_jem&view=event&id=
 265:4-deutsch-schularbeit
END:VEVENT
BEGIN:VEVENT
UID:event267@PTS Vöcklamarkt - Allgemeinbildung | Berufsorientierung | Pers
 önlichkeitsbildung
DTSTAMP:20260421T123916Z
CATEGORIES:Schularbeit
DESCRIPTION:4. Mathematik- Schularbeit\nCategory: Schularbeit\nLink: https:
 //www.pts-voecklamarkt.at/index.php?option=com_jem&view=event&id=267:4-mat
 hematik-schularbeit\n
DTSTART;VALUE=DATE:20260522
DTEND;VALUE=DATE:20260523
SUMMARY:4. Mathematik- Schularbeit
URL:https://www.pts-voecklamarkt.at/index.php?option=com_jem&view=event&id=
 267:4-mathematik-schularbeit
END:VEVENT
BEGIN:VEVENT
UID:event269@PTS Vöcklamarkt - Allgemeinbildung | Berufsorientierung | Pers
 önlichkeitsbildung
DTSTAMP:20260421T123916Z
CATEGORIES:Schularbeit
DESCRIPTION:4. Englisch- Schularbeit\nCategory: Schularbeit\nLink: https://
 www.pts-voecklamarkt.at/index.php?option=com_jem&view=event&id=269:4-engli
 sch-schularbeit\n
DTSTART;VALUE=DATE:20260529
DTEND;VALUE=DATE:20260530
SUMMARY:4. Englisch- Schularbeit
URL:https://www.pts-voecklamarkt.at/index.php?option=com_jem&view=event&id=
 269:4-englisch-schularbeit
END:VEVENT
END:VCALENDAR
